BEGIN:VCALENDAR
VERSION:2.0
PRODID:-//Freeride Filmfestival - ECPv6.15.20//NONSGML v1.0//EN
CALSCALE:GREGORIAN
METHOD:PUBLISH
X-ORIGINAL-URL:https://freeride-filmfestival.com
X-WR-CALDESC:Veranstaltungen für Freeride Filmfestival
REFRESH-INTERVAL;VALUE=DURATION:PT1H
X-Robots-Tag:noindex
X-PUBLISHED-TTL:PT1H
BEGIN:VTIMEZONE
TZID:Europe/Berlin
BEGIN:DAYLIGHT
TZOFFSETFROM:+0100
TZOFFSETTO:+0200
TZNAME:CEST
DTSTART:20230326T010000
END:DAYLIGHT
BEGIN:STANDARD
TZOFFSETFROM:+0200
TZOFFSETTO:+0100
TZNAME:CET
DTSTART:20231029T010000
END:STANDARD
BEGIN:DAYLIGHT
TZOFFSETFROM:+0100
TZOFFSETTO:+0200
TZNAME:CEST
DTSTART:20240331T010000
END:DAYLIGHT
BEGIN:STANDARD
TZOFFSETFROM:+0200
TZOFFSETTO:+0100
TZNAME:CET
DTSTART:20241027T010000
END:STANDARD
BEGIN:DAYLIGHT
TZOFFSETFROM:+0100
TZOFFSETTO:+0200
TZNAME:CEST
DTSTART:20250330T010000
END:DAYLIGHT
BEGIN:STANDARD
TZOFFSETFROM:+0200
TZOFFSETTO:+0100
TZNAME:CET
DTSTART:20251026T010000
END:STANDARD
END:VTIMEZONE
BEGIN:VEVENT
DTSTART;TZID=Europe/Berlin:20241110T180000
DTEND;TZID=Europe/Berlin:20241110T210000
DTSTAMP:20260419T191506
CREATED:20220725T144859Z
LAST-MODIFIED:20241018T074442Z
UID:10000035-1731261600-1731272400@freeride-filmfestival.com
SUMMARY:Zürich
DESCRIPTION:
URL:https://freeride-filmfestival.com/event/freeride-filmfestival-zuerich/
LOCATION:blue Cinema Abaton\, Heinrichstrasse 269\, Zürich\, 8005\, Schweiz
CATEGORIES:FFF Prime Tour
END:VEVENT
BEGIN:VEVENT
DTSTART;TZID=Europe/Berlin:20241110T190000
DTEND;TZID=Europe/Berlin:20241110T210000
DTSTAMP:20260419T191506
CREATED:20240730T134557Z
LAST-MODIFIED:20240918T111047Z
UID:10000211-1731265200-1731272400@freeride-filmfestival.com
SUMMARY:Copenhagen
DESCRIPTION:
URL:https://freeride-filmfestival.com/event/copenhagen/
LOCATION:Gloria Biograf & Café\, Rådhuspladsen 59\, København\, 1550\, Denmark
CATEGORIES:FFF Cinema Edition
END:VEVENT
END:VCALENDAR