BEGIN:VCALENDAR
VERSION:2.0
PRODID:-//Freeride Filmfestival - ECPv6.15.20//NONSGML v1.0//EN
CALSCALE:GREGORIAN
METHOD:PUBLISH
X-ORIGINAL-URL:https://freeride-filmfestival.com
X-WR-CALDESC:Veranstaltungen für Freeride Filmfestival
REFRESH-INTERVAL;VALUE=DURATION:PT1H
X-Robots-Tag:noindex
X-PUBLISHED-TTL:PT1H
BEGIN:VTIMEZONE
TZID:Europe/Berlin
BEGIN:DAYLIGHT
TZOFFSETFROM:+0100
TZOFFSETTO:+0200
TZNAME:CEST
DTSTART:20220327T010000
END:DAYLIGHT
BEGIN:STANDARD
TZOFFSETFROM:+0200
TZOFFSETTO:+0100
TZNAME:CET
DTSTART:20221030T010000
END:STANDARD
BEGIN:DAYLIGHT
TZOFFSETFROM:+0100
TZOFFSETTO:+0200
TZNAME:CEST
DTSTART:20230326T010000
END:DAYLIGHT
BEGIN:STANDARD
TZOFFSETFROM:+0200
TZOFFSETTO:+0100
TZNAME:CET
DTSTART:20231029T010000
END:STANDARD
BEGIN:DAYLIGHT
TZOFFSETFROM:+0100
TZOFFSETTO:+0200
TZNAME:CEST
DTSTART:20240331T010000
END:DAYLIGHT
BEGIN:STANDARD
TZOFFSETFROM:+0200
TZOFFSETTO:+0100
TZNAME:CET
DTSTART:20241027T010000
END:STANDARD
END:VTIMEZONE
BEGIN:VEVENT
DTSTART;TZID=Europe/Berlin:20231029T170000
DTEND;TZID=Europe/Berlin:20231029T190000
DTSTAMP:20260423T101416
CREATED:20230927T131911Z
LAST-MODIFIED:20231026T112758Z
UID:10000106-1698598800-1698606000@freeride-filmfestival.com
SUMMARY:Liptovsky Mikulas
DESCRIPTION:
URL:https://freeride-filmfestival.com/event/liptovsky-mikulas/
LOCATION:Golden Apple Cinema\, Kamenne pole 4449/3\, Liptovsky Mikulas\, 031 01\, Slowakische Republik
CATEGORIES:FFF Cinema Edition
END:VEVENT
END:VCALENDAR