BEGIN:VCALENDAR
VERSION:2.0
PRODID:-//Freeride Filmfestival - ECPv6.15.20//NONSGML v1.0//EN
CALSCALE:GREGORIAN
METHOD:PUBLISH
X-WR-CALNAME:Freeride Filmfestival
X-ORIGINAL-URL:https://freeride-filmfestival.com
X-WR-CALDESC:Veranstaltungen für Freeride Filmfestival
REFRESH-INTERVAL;VALUE=DURATION:PT1H
X-Robots-Tag:noindex
X-PUBLISHED-TTL:PT1H
BEGIN:VTIMEZONE
TZID:Europe/Berlin
BEGIN:DAYLIGHT
TZOFFSETFROM:+0100
TZOFFSETTO:+0200
TZNAME:CEST
DTSTART:20220327T010000
END:DAYLIGHT
BEGIN:STANDARD
TZOFFSETFROM:+0200
TZOFFSETTO:+0100
TZNAME:CET
DTSTART:20221030T010000
END:STANDARD
BEGIN:DAYLIGHT
TZOFFSETFROM:+0100
TZOFFSETTO:+0200
TZNAME:CEST
DTSTART:20230326T010000
END:DAYLIGHT
BEGIN:STANDARD
TZOFFSETFROM:+0200
TZOFFSETTO:+0100
TZNAME:CET
DTSTART:20231029T010000
END:STANDARD
BEGIN:DAYLIGHT
TZOFFSETFROM:+0100
TZOFFSETTO:+0200
TZNAME:CEST
DTSTART:20240331T010000
END:DAYLIGHT
BEGIN:STANDARD
TZOFFSETFROM:+0200
TZOFFSETTO:+0100
TZNAME:CET
DTSTART:20241027T010000
END:STANDARD
END:VTIMEZONE
BEGIN:VEVENT
DTSTART;TZID=Europe/Berlin:20231211T200000
DTEND;TZID=Europe/Berlin:20231211T220000
DTSTAMP:20260420T002422
CREATED:20231102T165227Z
LAST-MODIFIED:20231110T130340Z
UID:10000124-1702324800-1702332000@freeride-filmfestival.com
SUMMARY:Ludwigsburg
DESCRIPTION:
URL:https://freeride-filmfestival.com/event/ludwigsburg/
LOCATION:Scala-Kino\, Stuttgarter Straße 2\, Ludwigsburg\, 71638\, Deutschland
CATEGORIES:FFF Cinema Edition
END:VEVENT
BEGIN:VEVENT
DTSTART;TZID=Europe/Berlin:20231218T200000
DTEND;TZID=Europe/Berlin:20231218T220000
DTSTAMP:20260420T002422
CREATED:20231026T162032Z
LAST-MODIFIED:20231124T114056Z
UID:10000120-1702929600-1702936800@freeride-filmfestival.com
SUMMARY:Val Thorens
DESCRIPTION:
URL:https://freeride-filmfestival.com/event/val-thorens/2023-12-18/
LOCATION:The Church\, 993 Grande Rue\, Les Belleville\, 73440\, Frankreich
CATEGORIES:FFF Cinema Edition
END:VEVENT
BEGIN:VEVENT
DTSTART;TZID=Europe/Berlin:20231220T200000
DTEND;TZID=Europe/Berlin:20231220T220000
DTSTAMP:20260420T002422
CREATED:20231026T162032Z
LAST-MODIFIED:20231124T114056Z
UID:10000132-1703102400-1703109600@freeride-filmfestival.com
SUMMARY:Val Thorens
DESCRIPTION:
URL:https://freeride-filmfestival.com/event/val-thorens/2023-12-20/
LOCATION:The Church\, 993 Grande Rue\, Les Belleville\, 73440\, Frankreich
CATEGORIES:FFF Cinema Edition
END:VEVENT
BEGIN:VEVENT
DTSTART;TZID=Europe/Berlin:20231222T200000
DTEND;TZID=Europe/Berlin:20231222T220000
DTSTAMP:20260420T002422
CREATED:20231026T162032Z
LAST-MODIFIED:20231124T114056Z
UID:10000122-1703275200-1703282400@freeride-filmfestival.com
SUMMARY:Val Thorens
DESCRIPTION:
URL:https://freeride-filmfestival.com/event/val-thorens/2023-12-22/
LOCATION:The Church\, 993 Grande Rue\, Les Belleville\, 73440\, Frankreich
CATEGORIES:FFF Cinema Edition
END:VEVENT
END:VCALENDAR